BEGIN:VCALENDAR
VERSION:2.0
PRODID:-//בריאות נשית - ECPv5.6.0//NONSGML v1.0//EN
CALSCALE:GREGORIAN
METHOD:PUBLISH
X-WR-CALNAME:בריאות נשית
X-ORIGINAL-URL:https://www.msherman.co.il
X-WR-CALDESC:אירועים ל בריאות נשית
BEGIN:VTIMEZONE
TZID:Asia/Jerusalem
BEGIN:DAYLIGHT
TZOFFSETFROM:+0200
TZOFFSETTO:+0300
TZNAME:IDT
DTSTART:20210326T000000
END:DAYLIGHT
BEGIN:STANDARD
TZOFFSETFROM:+0300
TZOFFSETTO:+0200
TZNAME:IST
DTSTART:20211030T230000
END:STANDARD
END:VTIMEZONE
BEGIN:VEVENT
DTSTART;TZID=Asia/Jerusalem:20210530T183000
DTEND;TZID=Asia/Jerusalem:20210530T210000
DTSTAMP:20210528T064614
CREATED:20210430T093421Z
LAST-MODIFIED:20210524T142455Z
UID:9691-1622399400-1622408400@www.msherman.co.il
SUMMARY:קורס שיטת שרמן בירושלים
DESCRIPTION:קורס שיטת שרמן נוסף נפתח בנעמת ירושלים\, לאור הביקוש\, לאחר 2 קורסים מוצלחים עם פידבקים מדהימים מהמשתתפות.\nגם הפעם עלות הקורס מסובסד על ידי נעמת האלופות שמנגישות אותו בחפץ לב ובאהבה לנשים המעוניינות. \nסילבוס הקורס מעט שונה מן הרגיל:\n4 מפגשים רצופים בימי א' החל מה 30/5/21 18:30-21:00\n2 מפגשים נוספים במרווח של חודש בימי א' 18:30-21:30 \nהקורס מועבר ע"י פזית ים\, מדריכה מוסמכת בשיטת שרמן זה 4 שנים.
URL:https://www.msherman.co.il/event/%d7%a7%d7%95%d7%a8%d7%a1-%d7%a9%d7%99%d7%98%d7%aa-%d7%a9%d7%a8%d7%9e%d7%9f-%d7%91%d7%99%d7%a8%d7%95%d7%a9%d7%9c%d7%99%d7%9d/
LOCATION:נעמת ירושלים\, שלום עליכם 10\, ירושלים
CATEGORIES:עם מדריכה מוסמכת
ATTACH;FMTTYPE=image/jpeg:https://www.msherman.co.il/wp-content/uploads/2021/04/44.jpg
ORGANIZER;CN="%D7%A4%D7%96%D7%99%D7%AA%20%D7%99%D7%9D":MAILTO:pazityam@gmail.com
END:VEVENT
BEGIN:VEVENT
DTSTART;TZID=Asia/Jerusalem:20210531T173000
DTEND;TZID=Asia/Jerusalem:20210531T213000
DTSTAMP:20210528T064614
CREATED:20210409T162537Z
LAST-MODIFIED:20210524T142048Z
UID:9459-1622482200-1622496600@www.msherman.co.il
SUMMARY:פ"ת - הצעד הראשון להכרות והקלה על המחזור הנשי (פתוח)
DESCRIPTION:שיעור ראשון בשיטת שרמן מתוך ארבעה בסדרה\nשיעור זה שופך אור על התבונה שבגופינו\,\nהצעד הראשון מתוך מסע מרתק.\nשיעור זה מהווה הבסיס ללימוד החלק שבידנו לשנות\,\nלהקלה על כאב\,\nלקיצור משך הימים\,\nלהקלה על תופעות קדם וסתיות\,\nצמצום אמצעי הספיגה\nוחיבור לגוף. \nעל המנחה: מירב שרמן – אקדמאית\, תומכת לידה\,\nמלמדת את שיטת שרמן בהצלחה רבה מזה 16 שנה\, בקבוצות\, באולפנות ובמוסדות נוספים.\nעוסקת בהכשרת מדריכות ובניית מוצרים דיגיטלים. \nתאריכי ארבעת המפגשים:\n23.8.21 | 19.7.21 | 14.6.21 | 31.5.21 \n*המרווח בין המפגשים נותן אפשרות להתנסות בווסת\nמאחר ובמקביל נפתח עבורך הקורס הדיגיטלי\, קיימת עבורך גם האפשרות להצטרף לשידור חי אחת לחודש. \nעלות כל הקורס והרשמה:\nניתן להגיע לשיעור הראשון ולהרשם אחריו\n(לשמירת מקום למפגש הראשון ללא תשלום – הזיני את פרטיך כאן)\nאו ליהנות ממחיר הרשמה מוקדמת  – 20% הנחה\, עכשיו \nמחיר מיוחד (עד ה 31.5): 756 ש"ח\nמחיר מלא: 945 ש"ח \nכתובת: אם המושבות\, פתח תקווה\nקרוב לתחנת רכבת קרית אריה\n(כתובת מדוייקת תשלח לנרשמות) \nמידע נוסף על הקורס:\nhttps://www.msherman.co.il/courses \n*הקורס מתקיים בהתאם לתו האנושי – כו-לן מוזמנות.
URL:https://www.msherman.co.il/event/%d7%94%d7%a6%d7%a2%d7%93-%d7%94%d7%a8%d7%90%d7%a9%d7%95%d7%9f-%d7%9c%d7%94%d7%9b%d7%a8%d7%95%d7%aa-%d7%a2%d7%9d-%d7%94%d7%9e%d7%97%d7%96%d7%95%d7%a8-%d7%94%d7%97%d7%95%d7%93%d7%a9%d7%99-%d7%a4%d7%aa/
LOCATION:פתח תקווה\, אם המושבות\, פתח תקווה
CATEGORIES:עם מירב שרמן,שיטת שרמן,שיעור פתוח
ATTACH;FMTTYPE=image/jpeg:https://www.msherman.co.il/wp-content/uploads/2020/01/WhatsApp-Image-2019-07-02-at-23.39.40-e1618410326871.jpeg
ORGANIZER;CN="%D7%9E%D7%99%D7%A8%D7%91%20%D7%A9%D7%A8%D7%9E%D7%9F":MAILTO:meiravsherman@gmail.com
END:VEVENT
BEGIN:VEVENT
DTSTART;TZID=Asia/Jerusalem:20210609T173000
DTEND;TZID=Asia/Jerusalem:20210609T203000
DTSTAMP:20210528T064614
CREATED:20210526T131715Z
LAST-MODIFIED:20210526T131715Z
UID:10213-1623259800-1623270600@www.msherman.co.il
SUMMARY:פ"ת – הצעד הראשון להכרות והקלה על המחזור הנשי (פתוח)
DESCRIPTION:שיעור ראשון בשיטת שרמן מתוך ארבעה בסדרה\nשיעור זה שופך אור על התבונה שבגופינו\,\nהצעד הראשון מתוך מסע מרתק.\nשיעור זה מהווה הבסיס ללימוד החלק שבידנו לשנות\,\nלהקלה על כאב\,\nלקיצור משך הימים\,\nלהקלה על תופעות קדם וסתיות\,\nצמצום אמצעי הספיגה\nוחיבור לגוף. \nעל המנחה: מירב שרמן – אקדמאית\, תומכת לידה\,\nמלמדת את שיטת שרמן בהצלחה רבה מזה 16 שנה\, בקבוצות\, באולפנות ובמוסדות נוספים.\nעוסקת בהכשרת מדריכות ובניית מוצרים דיגיטלים. \nתאריכי ארבעת מפגשי הקורס:\n25.8.21 | 21.7.21 | 16.6.21 | 9.6.21 \n*המרווח בין המפגשים נותן אפשרות להתנסות בווסת\nמאחר ובמקביל נפתח עבורך הקורס הדיגיטלי\, קיימת עבורך גם האפשרות להצטרף לשידור חי אחת לחודש. \nעלות כל הקורס והרשמה:\nניתן להגיע לשיעור הראשון ולהרשם אחריו\n(לשמירת מקום למפגש הראשון ללא תשלום – הזיני את פרטיך כאן)\nאו לבצע כבר עכשיו הרשמה \nלרגל השקת יומן הארועים\, יש 20% הנחה: 756 ש"ח\nמחיר מלא: 945 ש"ח \nכתובת: אם המושבות\, פתח תקווה\nקרוב לתחנת רכבת קריית אריה\n(כתובת מדוייקת תשלח לנרשמות) \nמידע נוסף על הקורס:\nhttps://www.msherman.co.il/courses \n*הקורס מתקיים בהתאם לתו האנושי – כו-לן מוזמנות.
URL:https://www.msherman.co.il/event/%d7%a4%d7%aa-%d7%94%d7%a6%d7%a2%d7%93-%d7%94%d7%a8%d7%90%d7%a9%d7%95%d7%9f-%d7%9c%d7%94%d7%9b%d7%a8%d7%95%d7%aa-%d7%95%d7%94%d7%a7%d7%9c%d7%94-%d7%a2%d7%9c-%d7%94%d7%9e%d7%97%d7%96%d7%95/
END:VEVENT
END:VCALENDAR