BEGIN:VCALENDAR
VERSION:2.0
PRODID:-//בריאות נשית - ECPv5.6.0//NONSGML v1.0//EN
CALSCALE:GREGORIAN
METHOD:PUBLISH
X-WR-CALNAME:בריאות נשית
X-ORIGINAL-URL:https://www.msherman.co.il
X-WR-CALDESC:אירועים ל בריאות נשית
BEGIN:VTIMEZONE
TZID:Asia/Jerusalem
BEGIN:DAYLIGHT
TZOFFSETFROM:+0200
TZOFFSETTO:+0300
TZNAME:IDT
DTSTART:20210326T000000
END:DAYLIGHT
BEGIN:STANDARD
TZOFFSETFROM:+0300
TZOFFSETTO:+0200
TZNAME:IST
DTSTART:20211030T230000
END:STANDARD
END:VTIMEZONE
BEGIN:VEVENT
DTSTART;TZID=Asia/Jerusalem:20210503T173000
DTEND;TZID=Asia/Jerusalem:20210503T173000
DTSTAMP:20210501T023914
CREATED:20210409T162537Z
LAST-MODIFIED:20210418T153602Z
UID:9553-1620063000-1620063000@www.msherman.co.il
SUMMARY:פ"ת - הצעד הראשון להכרות והקלה על המחזור הנשי (פתוח)
DESCRIPTION:שיעור ראשון בשיטת שרמן מתוך ארבעה בסדרה\nשיעור זה שופך אור על התבונה שבגופינו\,\nהצעד הראשון מתוך מסע מרתק.\nשיעור זה מהווה הבסיס ללימוד החלק שבידנו לשנות\,\nלהקלה על כאב\,\nלקיצור משך הימים\,\nלהקלה על תופעות קדם וסתיות\,\nצמצום אמצעי הספיגה\nוחיבור לגוף. \nעל המנחה: מירב שרמן – אקדמאית\, תומכת לידה\,\nמלמדת את שיטת שרמן בהצלחה רבה מזה 16 שנה\, בקבוצות\, באולפנות ובמוסדות נוספים.\nעוסקת בהכשרת מדריכות ובניית מוצרים דיגיטלים. \nתאריכי ארבעת מפגשי הקורס:\n21.6.21 | 24.5.21 | 10.5.21 | 3.5.21 \n*המרווח בין המפגשים נותן אפשרות להתנסות בווסת\nמאחר ובמקביל נפתח עבורך הקורס הדיגיטלי\, קיימת עבורך גם האפשרות להצטרף לשידור חי אחת לחודש. \nעלות כל הקורס והרשמה:\nניתן להגיע לשיעור הראשון ולהרשם אחריו\n(לשמירת מקום למפגש הראשון ללא תשלום – הזיני את פרטיך כאן)\nאו ליהנות ממחיר הרשמה מוקדמת  – 20% הנחה\, עכשיו \nמחיר הרשמה מוקדמת (עד ה 25.4): 756 ש"ח\nמחיר מלא: 945 ש"ח \nכתובת: אם המושבות\, פתח תקווה\nקרוב לתחנת רכבת קריית אריה\n(כתובת מדוייקת תשלח לנרשמות) \nמידע נוסף על הקורס:\nhttps://www.msherman.co.il/courses \n*הקורס מתקיים בהתאם לתו האנושי – כו-לן מוזמנות.
URL:https://www.msherman.co.il/event/%d7%94%d7%a6%d7%a2%d7%93-%d7%94%d7%a8%d7%90%d7%a9%d7%95%d7%9f-%d7%9c%d7%94%d7%9b%d7%a8%d7%95%d7%aa-%d7%a2%d7%9d-%d7%94%d7%9e%d7%97%d7%96%d7%95%d7%a8-%d7%94%d7%97%d7%95%d7%93%d7%a9%d7%99-%d7%a4%d7%aa-5/
LOCATION:פתח תקווה\, אם המושבות\, פתח תקווה
CATEGORIES:עם מירב שרמן,שיטת שרמן,שיעור פתוח
ATTACH;FMTTYPE=image/png:https://www.msherman.co.il/wp-content/uploads/2021/04/בסלון-בויצמן-1-e1618410379938.png
ORGANIZER;CN="%D7%9E%D7%99%D7%A8%D7%91%20%D7%A9%D7%A8%D7%9E%D7%9F":MAILTO:meiravsherman@gmail.com
END:VEVENT
BEGIN:VEVENT
DTSTART;TZID=Asia/Jerusalem:20210510T173000
DTEND;TZID=Asia/Jerusalem:20210510T173000
DTSTAMP:20210501T023914
CREATED:20210409T162537Z
LAST-MODIFIED:20210418T153538Z
UID:9557-1620667800-1620667800@www.msherman.co.il
SUMMARY:פ"ת - שיעור 2 בשיטת שרמן
DESCRIPTION:שיעור שני בשיטת שרמן מתוך ארבעה בסדרה\nאחרי שלמדנו בשיעור הקודם על המבנה והתהליך המתרחש\,\nבשיעור זה נקבל כלים פרקטים כדי לפעול\nבהתאמה לצורך של הגוף ולהקל. \nהשיעור הראשון והשני מהווים יחד את יסודות השיטה\,\nמעודדים היזכרות וחיבור לגוף\,\nובזכות הכלים הפרקטים שתקבלי תוכלי:\n* להקל על הגוף ולהרגיש פחות מסורבלת\n* להפחית כאבים\n* לקצר את מספר הימים (חזרה למצב טבעי)\,\n* להפחית שימוש באמצעי ספיגה\n* לחזק חיבור לנשיות \nתאריכי ארבעת מפגשי הקורס:\n21.6.21 | 24.5.21 | 10.5.21 | 3.5.21 \n*המרווח בין המפגשים נותן אפשרות להתנסות בווסת\nמאחר ובמקביל נפתח עבורך הקורס הדיגיטלי\, קיימת עבורך גם האפשרות להצטרף לשידור חי אחת לחודש. \nעלות כל הקורס והרשמה:\nניתן להגיע לשיעור הראשון ולהרשם אחריו\n(לשמירת מקום למפגש הראשון ללא תשלום – הזיני את פרטיך כאן)\nאו ליהנות ממחיר הרשמה מוקדמת  – 20% הנחה\, עכשיו \nמחיר הרשמה מוקדמת (עד ה 25.4): 756 ש"ח\nמחיר מלא: 945 ש"ח \nכתובת: אם המושבות\, פתח תקווה\nקרוב לתחנת רכבת קריית אריה\n(כתובת מדוייקת תשלח לנרשמות) \nמידע נוסף על הקורס:\nhttps://www.msherman.co.il/courses \n*הקורס מתקיים בהתאם לתו האנושי – כו-לן מוזמנות.
URL:https://www.msherman.co.il/event/%d7%94%d7%a6%d7%a2%d7%93-%d7%94%d7%a8%d7%90%d7%a9%d7%95%d7%9f-%d7%9c%d7%94%d7%9b%d7%a8%d7%95%d7%aa-%d7%a2%d7%9d-%d7%94%d7%9e%d7%97%d7%96%d7%95%d7%a8-%d7%94%d7%97%d7%95%d7%93%d7%a9%d7%99-%d7%a4%d7%aa-6/
LOCATION:פתח תקווה\, אם המושבות\, פתח תקווה
CATEGORIES:עם מירב שרמן,שיטת שרמן
ORGANIZER;CN="%D7%9E%D7%99%D7%A8%D7%91%20%D7%A9%D7%A8%D7%9E%D7%9F":MAILTO:meiravsherman@gmail.com
END:VEVENT
BEGIN:VEVENT
DTSTART;TZID=Asia/Jerusalem:20210524T173000
DTEND;TZID=Asia/Jerusalem:20210524T173000
DTSTAMP:20210501T023914
CREATED:20210409T162537Z
LAST-MODIFIED:20210418T153525Z
UID:9558-1621877400-1621877400@www.msherman.co.il
SUMMARY:פ"ת - שיעור 3 בשיטת שרמן
DESCRIPTION:שיעור שלישי בשיטת שרמן מתוך ארבעה בסדרה\nאנחנו רגילות לפחד מהכאב\,\nלעשות הכל כדי שהוא יעלם.\nבשיעור הזה נלמד להכיר את הכאב ממקום אחר\,\nונלמד כלים לשתף פעולה עם הגוף ולהקל משמעותית על הכאב.\nאם נבדקת ונמצא שהכל אצלך תקין\,\nועדיין כואב לך – יש סיכוי טוב שתחווי הקלה.\nאם אין לך כאבי וסת\,\nשיעור זה הוא פתח להבנת השפה הנשית\, והתמודדות עם כאבי החיים. \nתאריכי ארבעת מפגשי הקורס:\n21.6.21 | 24.5.21 | 10.5.21 | 3.5.21 \n*המרווח בין המפגשים נותן אפשרות להתנסות בווסת\nמאחר ובמקביל נפתח עבורך הקורס הדיגיטלי\, קיימת עבורך גם האפשרות להצטרף לשידור חי אחת לחודש. \nעלות כל הקורס והרשמה:\nניתן להגיע לשיעור הראשון ולהרשם אחריו\n(לשמירת מקום למפגש הראשון ללא תשלום – הזיני את פרטיך כאן)\nאו ליהנות ממחיר הרשמה מוקדמת  – 20% הנחה\, עכשיו \nמחיר הרשמה מוקדמת (עד ה 25.4): 756 ש"ח\nמחיר מלא: 945 ש"ח \nכתובת: אם המושבות\, פתח תקווה\nקרוב לתחנת רכבת קריית אריה\n(כתובת מדוייקת תשלח לנרשמות) \nמידע נוסף על הקורס:\nhttps://www.msherman.co.il/courses \n*הקורס מתקיים בהתאם לתו האנושי – כו-לן מוזמנות.
URL:https://www.msherman.co.il/event/%d7%94%d7%a6%d7%a2%d7%93-%d7%94%d7%a8%d7%90%d7%a9%d7%95%d7%9f-%d7%9c%d7%94%d7%9b%d7%a8%d7%95%d7%aa-%d7%a2%d7%9d-%d7%94%d7%9e%d7%97%d7%96%d7%95%d7%a8-%d7%94%d7%97%d7%95%d7%93%d7%a9%d7%99-%d7%a4%d7%aa-7/
LOCATION:פתח תקווה\, אם המושבות\, פתח תקווה
CATEGORIES:עם מירב שרמן,שיטת שרמן
ORGANIZER;CN="%D7%9E%D7%99%D7%A8%D7%91%20%D7%A9%D7%A8%D7%9E%D7%9F":MAILTO:meiravsherman@gmail.com
END:VEVENT
BEGIN:VEVENT
DTSTART;TZID=Asia/Jerusalem:20210530T183000
DTEND;TZID=Asia/Jerusalem:20210828T183000
DTSTAMP:20210501T023914
CREATED:20210430T093421Z
LAST-MODIFIED:20210430T093421Z
UID:9691-1622399400-1630175400@www.msherman.co.il
SUMMARY:קורס שיטת שרמן בירושלים
DESCRIPTION:קורס שיטת שרמן נוסף נפתח בנעמת ירושלים\, לאור הביקוש\, לאחר 2 קורסים מוצלחים עם פידבקים מדהימים מהמשתתפות.\nגם הפעם עלות הקורס מסובסד על ידי נעמת האלופות שמנגישות אותו בחפץ לב ובאהבה לנשים המעוניינות. \nסילבוס הקורס מעט שונה מן הרגיל:\n4 מפגשים רצופים בימי א' החל מה 30/5/21 18:30-21:00\n2 מפגשים נוספים במרווח של חודש בימי א' 18:30-21:30 \nהקורס מועבר ע"י פזית ים\, מדריכה מוסמכת בשיטת שרמן זה 4 שנים.
URL:https://www.msherman.co.il/event/%d7%a7%d7%95%d7%a8%d7%a1-%d7%a9%d7%99%d7%98%d7%aa-%d7%a9%d7%a8%d7%9e%d7%9f-%d7%91%d7%99%d7%a8%d7%95%d7%a9%d7%9c%d7%99%d7%9d/2021-05-30/
LOCATION:נעמת ירושלים\, שלום עליכם 10\, ירושלים
CATEGORIES:עם מדריכה מוסמכת
ATTACH;FMTTYPE=image/jpeg:https://www.msherman.co.il/wp-content/uploads/2021/04/44.jpg
ORGANIZER;CN="%D7%A4%D7%96%D7%99%D7%AA%20%D7%99%D7%9D":MAILTO:pazityam@gmail.com
END:VEVENT
BEGIN:VEVENT
DTSTART;TZID=Asia/Jerusalem:20210621T173000
DTEND;TZID=Asia/Jerusalem:20210621T173000
DTSTAMP:20210501T023914
CREATED:20210409T162537Z
LAST-MODIFIED:20210418T153346Z
UID:9559-1624296600-1624296600@www.msherman.co.il
SUMMARY:פ"ת - שיעור 4 בשיטת שרמן
DESCRIPTION:שיעור רביעי בשיטת שרמן מתוך ארבעה בסדרה\nמה עושים עם העצבות והעצבנות לפני קבלת הווסת?\nמסתבר ש…\nמתחת לתופעות האלו יש תבונה שמחכה שתגלי אותה.\nכשאת לומדת אותה\, חוקי המשחק משתנים\,\nהכעס ותסכול הופכים להיות עבורך עוצמה פנימית\,\nלחישה פנימית שקוראת לך לחזור הביתה\,\nאל עצמך. \nתאריכי ארבעת מפגשי הקורס:\n21.6.21 | 24.5.21 | 10.5.21 | 3.5.21 \n*המרווח בין המפגשים נותן אפשרות להתנסות בווסת\nמאחר ובמקביל נפתח עבורך הקורס הדיגיטלי\, קיימת עבורך גם האפשרות להצטרף לשידור חי אחת לחודש. \nעלות כל הקורס והרשמה:\nניתן להגיע לשיעור הראשון ולהרשם אחריו\n(לשמירת מקום למפגש הראשון ללא תשלום – הזיני את פרטיך כאן)\nאו ליהנות ממחיר הרשמה מוקדמת  – 20% הנחה\, עכשיו \nמחיר הרשמה מוקדמת (עד ה 25.4): 756 ש"ח\nמחיר מלא: 945 ש"ח \nכתובת: אם המושבות\, פתח תקווה\nקרוב לתחנת רכבת קריית אריה\n(כתובת מדוייקת תשלח לנרשמות) \nמידע נוסף על הקורס:\nhttps://www.msherman.co.il/courses \n*הקורס מתקיים בהתאם לתו האנושי – כו-לן מוזמנות.
URL:https://www.msherman.co.il/event/%d7%94%d7%a6%d7%a2%d7%93-%d7%94%d7%a8%d7%90%d7%a9%d7%95%d7%9f-%d7%9c%d7%94%d7%9b%d7%a8%d7%95%d7%aa-%d7%a2%d7%9d-%d7%94%d7%9e%d7%97%d7%96%d7%95%d7%a8-%d7%94%d7%97%d7%95%d7%93%d7%a9%d7%99-%d7%a4%d7%aa-8/
LOCATION:פתח תקווה\, אם המושבות\, פתח תקווה
CATEGORIES:עם מירב שרמן,שיטת שרמן
ORGANIZER;CN="%D7%9E%D7%99%D7%A8%D7%91%20%D7%A9%D7%A8%D7%9E%D7%9F":MAILTO:meiravsherman@gmail.com
END:VEVENT
END:VCALENDAR